BEGIN:VCALENDAR
VERSION:2.0
PRODID:-//Porter County Education Services - ECPv6.11.2//NONSGML v1.0//EN
CALSCALE:GREGORIAN
METHOD:PUBLISH
X-ORIGINAL-URL:https://pces.k12.in.us
X-WR-CALDESC:Events for Porter County Education Services
REFRESH-INTERVAL;VALUE=DURATION:PT1H
X-Robots-Tag:noindex
X-PUBLISHED-TTL:PT1H
BEGIN:VTIMEZONE
TZID:America/Chicago
BEGIN:DAYLIGHT
TZOFFSETFROM:-0600
TZOFFSETTO:-0500
TZNAME:CDT
DTSTART:20250309T080000
END:DAYLIGHT
BEGIN:STANDARD
TZOFFSETFROM:-0500
TZOFFSETTO:-0600
TZNAME:CST
DTSTART:20251102T070000
END:STANDARD
END:VTIMEZONE
BEGIN:VEVENT
DTSTART;TZID=America/Chicago:20250604T180000
DTEND;TZID=America/Chicago:20250604T200000
DTSTAMP:20260421T203751
CREATED:20250512T143135Z
LAST-MODIFIED:20250512T143135Z
UID:10000006-1749060000-1749067200@pces.k12.in.us
SUMMARY:SEPAC Meeting
DESCRIPTION:
URL:https://pces.k12.in.us/event/sepac-meeting/
LOCATION:SELF School\, 750 Ransom Rd\, Valparaiso\, IN\, 46385\, United States
END:VEVENT
BEGIN:VEVENT
DTSTART;TZID=America/Chicago:20250523T090000
DTEND;TZID=America/Chicago:20250523T140000
DTSTAMP:20260421T203751
CREATED:20250512T143318Z
LAST-MODIFIED:20250512T143318Z
UID:10000008-1747990800-1748008800@pces.k12.in.us
SUMMARY:Field Day
DESCRIPTION:
URL:https://pces.k12.in.us/event/field-day/
LOCATION:SELF School\, 750 Ransom Rd\, Valparaiso\, IN\, 46385\, United States
END:VEVENT
BEGIN:VEVENT
DTSTART;TZID=America/Chicago:20250522T160000
DTEND;TZID=America/Chicago:20250522T180000
DTSTAMP:20260421T203751
CREATED:20250512T142946Z
LAST-MODIFIED:20250519T151950Z
UID:10000005-1747929600-1747936800@pces.k12.in.us
SUMMARY:SELF Art Show
DESCRIPTION:
URL:https://pces.k12.in.us/event/self-art-show/
LOCATION:SELF School\, 750 Ransom Rd\, Valparaiso\, IN\, 46385\, United States
END:VEVENT
BEGIN:VEVENT
DTSTART;TZID=America/Chicago:20250516T100000
DTEND;TZID=America/Chicago:20250516T120000
DTSTAMP:20260421T203751
CREATED:20250512T143239Z
LAST-MODIFIED:20250512T143239Z
UID:10000007-1747389600-1747396800@pces.k12.in.us
SUMMARY:SELF Graduation Ceremony
DESCRIPTION:Congratulations to the Class of 2025!
URL:https://pces.k12.in.us/event/self-graduation-ceremony/
LOCATION:SELF School\, 750 Ransom Rd\, Valparaiso\, IN\, 46385\, United States
END:VEVENT
END:VCALENDAR